BEGIN:VCALENDAR
VERSION:2.0
PRODID:-//Sabre//Sabre VObject 4.5.8//EN
CALSCALE:GREGORIAN
BEGIN:VEVENT
UID:criticalmass-one-esslingen-1610730000
DTSTAMP:20260423T113111Z
SUMMARY:Critical Mass Esslingen 15.01.2021
DTSTART;TZID=Europe/Berlin:20210115T180000
DTEND;TZID=Europe/Berlin:20210115T200000
LOCATION:Esslingen\, Bahnhofsvorplatz
GEO:48.739416;9.300592
URL;VALUE=URI:https://criticalmass.in/esslingen/2021-01-15
END:VEVENT
END:VCALENDAR
