BEGIN:VCALENDAR
VERSION:2.0
PRODID:-//Sabre//Sabre VObject 4.5.8//EN
CALSCALE:GREGORIAN
BEGIN:VEVENT
UID:criticalmass-one-esslingen-1600444800
DTSTAMP:20260424T000531Z
SUMMARY:Critical Mass Esslingen 18.09.2020
DTSTART;TZID=Europe/Berlin:20200918T180000
DTEND;TZID=Europe/Berlin:20200918T200000
LOCATION:Esslingen\, Bahnhofsvorplatz
GEO:48.739416;9.300592
URL;VALUE=URI:https://criticalmass.in/esslingen/2020-09-18
END:VEVENT
END:VCALENDAR
