BEGIN:VCALENDAR
VERSION:2.0
PRODID:-//Sabre//Sabre VObject 4.5.8//EN
CALSCALE:GREGORIAN
BEGIN:VEVENT
UID:criticalmass-one-esslingen-1576861200
DTSTAMP:20260422T230157Z
SUMMARY:Critical Mass Esslingen 20.12.2019
DTSTART;TZID=Europe/Berlin:20191220T180000
DTEND;TZID=Europe/Berlin:20191220T200000
LOCATION:Esslingen\, Bahnhofsvorplatz
GEO:48.739416;9.300592
URL;VALUE=URI:https://criticalmass.in/esslingen/2019-12-20
END:VEVENT
END:VCALENDAR
