BEGIN:VCALENDAR
VERSION:2.0
PRODID:-//Sabre//Sabre VObject 4.5.8//EN
CALSCALE:GREGORIAN
BEGIN:VEVENT
UID:criticalmass-one-esslingen-1573837200
DTSTAMP:20260422T082429Z
SUMMARY:Critical Mass Esslingen 15.11.2019
DTSTART;TZID=Europe/Berlin:20191115T180000
DTEND;TZID=Europe/Berlin:20191115T200000
LOCATION:Esslingen\, Bahnhofsvorplatz
GEO:48.739416;9.300592
URL;VALUE=URI:https://criticalmass.in/esslingen/2019-11-15
END:VEVENT
END:VCALENDAR
