BEGIN:VCALENDAR
VERSION:2.0
PRODID:-//Sabre//Sabre VObject 4.5.8//EN
CALSCALE:GREGORIAN
BEGIN:VEVENT
UID:criticalmass-one-esslingen-1558108800
DTSTAMP:20260425T181739Z
SUMMARY:Critical Mass Esslingen 17.05.2019
DTSTART;TZID=Europe/Berlin:20190517T180000
DTEND;TZID=Europe/Berlin:20190517T200000
LOCATION:Esslingen\, Bahnhofsvorplatz
GEO:48.739416;9.300592
URL;VALUE=URI:https://criticalmass.in/esslingen/2019-05-17
END:VEVENT
END:VCALENDAR
