BEGIN:VCALENDAR
VERSION:2.0
PRODID:-//Sabre//Sabre VObject 4.5.8//EN
CALSCALE:GREGORIAN
BEGIN:VEVENT
UID:criticalmass-one-esslingen-1555689600
DTSTAMP:20260423T064927Z
SUMMARY:Critical Mass Esslingen 19.04.2019
DTSTART;TZID=Europe/Berlin:20190419T180000
DTEND;TZID=Europe/Berlin:20190419T200000
LOCATION:Esslingen\, Bahnhofsvorplatz
GEO:48.739416;9.300592
URL;VALUE=URI:https://criticalmass.in/esslingen/2019-04-19
END:VEVENT
END:VCALENDAR
