BEGIN:VCALENDAR
VERSION:2.0
PRODID:-//Sabre//Sabre VObject 4.5.8//EN
CALSCALE:GREGORIAN
BEGIN:VEVENT
UID:criticalmass-one-essen-1631966400
DTSTAMP:20260424T110027Z
SUMMARY:Kidical Mass Essen 18.09.2021
DTSTART;TZID=Europe/Berlin:20210918T140000
DTEND;TZID=Europe/Berlin:20210918T160000
LOCATION:Kaiser-Wilhelm-Park\, Stankeitstraße
URL;VALUE=URI:https://criticalmass.in/essen/kidical-mass-essen-september-20
 21
END:VEVENT
END:VCALENDAR
