BEGIN:VCALENDAR
VERSION:2.0
PRODID:-//Sabre//Sabre VObject 4.5.8//EN
CALSCALE:GREGORIAN
BEGIN:VEVENT
UID:criticalmass-one-essen-1683374400
DTSTAMP:20260423T210034Z
SUMMARY:Kidical Mass Essen 06.05.2023
DTSTART;TZID=Europe/Berlin:20230506T140000
DTEND;TZID=Europe/Berlin:20230506T160000
LOCATION:Spielplatz am Stadtgarten\, nähe Brunnenstraße 21\, 45128 Essen
GEO:51.445143;7.011625
URL;VALUE=URI:https://criticalmass.in/essen/kidical-mass-essen-mai-2023
END:VEVENT
END:VCALENDAR
