BEGIN:VCALENDAR
VERSION:2.0
PRODID:-//Sabre//Sabre VObject 4.5.8//EN
CALSCALE:GREGORIAN
BEGIN:VEVENT
UID:criticalmass-one-essen-1763143200
DTSTAMP:20260426T021730Z
SUMMARY:Critical Mass Essen 14.11.2025
DTSTART;TZID=Europe/Berlin:20251114T190000
DTEND;TZID=Europe/Berlin:20251114T210000
LOCATION:Willy-Brandt-Platz
GEO:51.452526;7.012961
URL;VALUE=URI:https://criticalmass.in/essen/2025-11-14
END:VEVENT
END:VCALENDAR
