BEGIN:VCALENDAR
VERSION:2.0
PRODID:-//Sabre//Sabre VObject 4.5.8//EN
CALSCALE:GREGORIAN
BEGIN:VEVENT
UID:criticalmass-one-essen-1752253200
DTSTAMP:20260425T143149Z
SUMMARY:Critical Mass Essen 11.07.2025
DTSTART;TZID=Europe/Berlin:20250711T190000
DTEND;TZID=Europe/Berlin:20250711T210000
LOCATION:Willy-Brandt-Platz
GEO:51.452526;7.012961
URL;VALUE=URI:https://criticalmass.in/essen/2025-07-11
END:VEVENT
END:VCALENDAR
