BEGIN:VCALENDAR
VERSION:2.0
PRODID:-//Sabre//Sabre VObject 4.5.8//EN
CALSCALE:GREGORIAN
BEGIN:VEVENT
UID:criticalmass-one-essen-1678471200
DTSTAMP:20260425T032435Z
SUMMARY:Critical Mass Essen 10.03.2023
DTSTART;TZID=Europe/Berlin:20230310T190000
DTEND;TZID=Europe/Berlin:20230310T210000
LOCATION:Willy-Brandt-Platz
GEO:51.452526;7.012961
URL;VALUE=URI:https://criticalmass.in/essen/2023-03-10
END:VEVENT
END:VCALENDAR
