BEGIN:VCALENDAR
VERSION:2.0
PRODID:-//Sabre//Sabre VObject 4.5.8//EN
CALSCALE:GREGORIAN
BEGIN:VEVENT
UID:criticalmass-one-essen-1615572000
DTSTAMP:20260424T052040Z
SUMMARY:Critical Mass Essen 12.03.2021
DTSTART;TZID=Europe/Berlin:20210312T190000
DTEND;TZID=Europe/Berlin:20210312T210000
LOCATION:Willy-Brandt-Platz
GEO:51.452526;7.012961
URL;VALUE=URI:https://criticalmass.in/essen/2021-03-12
END:VEVENT
END:VCALENDAR
