BEGIN:VCALENDAR
VERSION:2.0
PRODID:-//Sabre//Sabre VObject 4.5.8//EN
CALSCALE:GREGORIAN
BEGIN:VEVENT
UID:criticalmass-one-essen-1605290400
DTSTAMP:20260424T123220Z
SUMMARY:Critical Mass Essen 13.11.2020
DTSTART;TZID=Europe/Berlin:20201113T190000
DTEND;TZID=Europe/Berlin:20201113T210000
LOCATION:Willy-Brandt-Platz
GEO:51.452526;7.012961
URL;VALUE=URI:https://criticalmass.in/essen/2020-11-13
END:VEVENT
END:VCALENDAR
