BEGIN:VCALENDAR
VERSION:2.0
PRODID:-//Sabre//Sabre VObject 4.5.8//EN
CALSCALE:GREGORIAN
BEGIN:VEVENT
UID:criticalmass-one-essen-1573236000
DTSTAMP:20260423T014941Z
SUMMARY:Critical Mass Essen 08.11.2019
DESCRIPTION:eine sehr schöne Fietstour\, auch wg. der Fahrt an der A 52 - 
 Auffahrt im Essener Süden und den schönen    kleinen Straßen in E -  Ha
 rzopf.   Einfach nur gut ...
DTSTART;TZID=Europe/Berlin:20191108T190000
DTEND;TZID=Europe/Berlin:20191108T210000
LOCATION:Willy-Brandt-Platz
GEO:51.452526;7.012961
URL;VALUE=URI:https://criticalmass.in/essen/2019-11-08
END:VEVENT
END:VCALENDAR
