BEGIN:VCALENDAR
VERSION:2.0
PRODID:-//Sabre//Sabre VObject 4.5.8//EN
CALSCALE:GREGORIAN
BEGIN:VEVENT
UID:criticalmass-one-essen-1547229600
DTSTAMP:20260425T154859Z
SUMMARY:Critical Mass Essen 11.01.2019
DTSTART;TZID=Europe/Berlin:20190111T190000
DTEND;TZID=Europe/Berlin:20190111T210000
LOCATION:Willy-Brandt-Platz
GEO:51.452526;7.012961
URL;VALUE=URI:https://criticalmass.in/essen/2019-01-11
END:VEVENT
END:VCALENDAR
