BEGIN:VCALENDAR
VERSION:2.0
PRODID:-//Sabre//Sabre VObject 4.5.8//EN
CALSCALE:GREGORIAN
BEGIN:VEVENT
UID:criticalmass-one-essen-1533920400
DTSTAMP:20260424T023733Z
SUMMARY:Critical Mass Essen 10.08.2018
DTSTART;TZID=Europe/Berlin:20180810T190000
DTEND;TZID=Europe/Berlin:20180810T210000
LOCATION:Willy-Brandt-Platz
GEO:51.452526;7.012961
URL;VALUE=URI:https://criticalmass.in/essen/2018-08-10
END:VEVENT
END:VCALENDAR
