BEGIN:VCALENDAR
VERSION:2.0
PRODID:-//Sabre//Sabre VObject 4.5.8//EN
CALSCALE:GREGORIAN
BEGIN:VEVENT
UID:criticalmass-one-essen-1507914000
DTSTAMP:20260425T142447Z
SUMMARY:Critical Mass Essen 13.10.2017
DTSTART;TZID=Europe/Berlin:20171013T190000
DTEND;TZID=Europe/Berlin:20171013T210000
LOCATION:Willy-Brandt-Platz
GEO:51.452526;7.012961
URL;VALUE=URI:https://criticalmass.in/essen/2017-10-13
END:VEVENT
END:VCALENDAR
