BEGIN:VCALENDAR
VERSION:2.0
PRODID:-//Sabre//Sabre VObject 4.5.8//EN
CALSCALE:GREGORIAN
BEGIN:VEVENT
UID:criticalmass-one-essen-1497027600
DTSTAMP:20260424T080740Z
SUMMARY:Critical Mass Essen 09.06.2017 (80)
DESCRIPTION:Direkt im Anschluß: Nachtradeln im Rahmen der Aktion Stadtrade
 ln
DTSTART;TZID=Europe/Berlin:20170609T190000
DTEND;TZID=Europe/Berlin:20170609T210000
LOCATION:Willy-Brandt-Platz
GEO:51.452526;7.012961
URL;VALUE=URI:https://criticalmass.in/essen/2017-06-09
END:VEVENT
END:VCALENDAR
