BEGIN:VCALENDAR
VERSION:2.0
PRODID:-//Sabre//Sabre VObject 4.5.8//EN
CALSCALE:GREGORIAN
BEGIN:VEVENT
UID:criticalmass-one-essen-1476464400
DTSTAMP:20260424T152112Z
SUMMARY:Critical Mass Essen 14.10.2016 (72)
DTSTART;TZID=Europe/Berlin:20161014T190000
DTEND;TZID=Europe/Berlin:20161014T210000
LOCATION:Willy-Brandt-Platz
GEO:51.452526;7.012961
URL;VALUE=URI:https://criticalmass.in/essen/2016-10-14
END:VEVENT
END:VCALENDAR
