BEGIN:VCALENDAR
VERSION:2.0
PRODID:-//Sabre//Sabre VObject 4.5.8//EN
CALSCALE:GREGORIAN
BEGIN:VEVENT
UID:criticalmass-one-essen-1471021200
DTSTAMP:20260424T003531Z
SUMMARY:Critical Mass Essen 12.08.2016 (70)
DESCRIPTION:"Ungewöhnlich viele Radfahrer für Essen"\, so die leitende Be
 amtin des polizeilichen Beobachtungskommandos. Kurz vor dem normalen Ende 
 der Fahrradtour wurde der Verband von der Polizei gesprengt.\n\nhttp://www
 .presseportal.de/blaulicht/pm/11562/3403341\n\nhttp://www.presseportal.de/
 blaulicht/pm/11562/3405383\n\nDie Presse dazu (u.a.):\nhttp://www.derweste
 n.de/staedte/essen/essener-polizei-stoppt-massen-radtour-mit-200-radlern-i
 d12097332.html\n\nhttp://www.derwesten.de/staedte/essen/polizei-will-weite
 re-unangemeldete-gross-radtouren-verhindern-id12100776.html\n\nhttp://www.
 derwesten.de/region/critical-mass-demonstration-oder-schwarmradeln-id12102
 630.html\n\nhttp://www.derwesten.de/nrz/meinung/wem-gehoert-die-strasse-id
 12102780.html\n\nhttp://www1.wdr.de/mediathek/audio/wdr5/wdr5-westblick-in
 terview/index.html\n\nhttp://www.derwesten.de/staedte/essen/gruene-kritisi
 eren-polizei-fuer-radtour-einsatz-id12105210.html\n\nhttp://www.derwesten.
 de/staedte/essen/polizeieinsatz-bei-critical-mass-ein-pro-und-contra-id121
 06944.html\n\nhttp://www.derwesten.de/staedte/essen/radelnde-polizisten-so
 llen-naechste-critical-mass-begleiten-id12115060.html\n\nhttp://www.derwes
 ten.de/panorama/wochenende/fahrradfahrer-erkaempfen-sich-ihr-recht-auf-der
 -strasse-id11037872.html
DTSTART;TZID=Europe/Berlin:20160812T190000
DTEND;TZID=Europe/Berlin:20160812T210000
LOCATION:Willy-Brandt-Platz
GEO:51.452526;7.012961
URL;VALUE=URI:https://criticalmass.in/essen/2016-08-12
END:VEVENT
END:VCALENDAR
