BEGIN:VCALENDAR
VERSION:2.0
PRODID:-//Sabre//Sabre VObject 4.5.8//EN
CALSCALE:GREGORIAN
BEGIN:VEVENT
UID:criticalmass-one-essen-1465578000
DTSTAMP:20260424T105447Z
SUMMARY:Critical Mass Essen 10.06.2016
DTSTART;TZID=Europe/Berlin:20160610T190000
DTEND;TZID=Europe/Berlin:20160610T210000
LOCATION:Willy-Brandt-Platz
GEO:51.452526;7.012961
URL;VALUE=URI:https://criticalmass.in/essen/2016-06-10
END:VEVENT
END:VCALENDAR
