BEGIN:VCALENDAR
VERSION:2.0
PRODID:-//Sabre//Sabre VObject 4.5.8//EN
CALSCALE:GREGORIAN
BEGIN:VEVENT
UID:criticalmass-one-essen-1460134800
DTSTAMP:20260425T232857Z
SUMMARY:Critical Mass Essen 08.04.2016
DTSTART;TZID=Europe/Berlin:20160408T190000
DTEND;TZID=Europe/Berlin:20160408T210000
LOCATION:Willy-Brandt-Platz
GEO:51.452526;7.012961
URL;VALUE=URI:https://criticalmass.in/essen/2016-04-08
END:VEVENT
END:VCALENDAR
