BEGIN:VCALENDAR
VERSION:2.0
PRODID:-//Sabre//Sabre VObject 4.5.8//EN
CALSCALE:GREGORIAN
BEGIN:VEVENT
UID:criticalmass-one-essen-1457719200
DTSTAMP:20260424T091548Z
SUMMARY:Critical Mass ESSEN Nr. 65: 11. März 2016 - 19 Uhr
DTSTART;TZID=Europe/Berlin:20160311T190000
DTEND;TZID=Europe/Berlin:20160311T210000
LOCATION:Willy-Brandt-Platz\, Essen
GEO:51.452526;7.012961
URL;VALUE=URI:https://criticalmass.in/essen/2016-03-11
END:VEVENT
END:VCALENDAR
