BEGIN:VCALENDAR
VERSION:2.0
PRODID:-//Sabre//Sabre VObject 4.5.8//EN
CALSCALE:GREGORIAN
BEGIN:VEVENT
UID:criticalmass-one-essen-1426946400
DTSTAMP:20260424T031337Z
SUMMARY:Critical Mass Essen 21.03.2015
DTSTART;TZID=Europe/Berlin:20150321T150000
DTEND;TZID=Europe/Berlin:20150321T170000
LOCATION:Willy-Brandt-Platz
GEO:51.452526;7.012961
URL;VALUE=URI:https://criticalmass.in/essen/2015-03-21
END:VEVENT
END:VCALENDAR
