BEGIN:VCALENDAR
VERSION:2.0
PRODID:-//Sabre//Sabre VObject 4.5.8//EN
CALSCALE:GREGORIAN
BEGIN:VEVENT
UID:criticalmass-one-essen-1419084000
DTSTAMP:20260425T154729Z
SUMMARY:Critical Mass Essen 20.12.2014
DTSTART;TZID=Europe/Berlin:20141220T150000
DTEND;TZID=Europe/Berlin:20141220T170000
LOCATION:Willy-Brandt-Platz
GEO:51.452526;7.012961
URL;VALUE=URI:https://criticalmass.in/essen/2014-12-20
END:VEVENT
END:VCALENDAR
