BEGIN:VCALENDAR
VERSION:2.0
PRODID:-//Sabre//Sabre VObject 4.5.8//EN
CALSCALE:GREGORIAN
BEGIN:VEVENT
UID:criticalmass-one-essen-1416060000
DTSTAMP:20260424T091553Z
SUMMARY:Critical Mass Essen 15.11.2014
DTSTART;TZID=Europe/Berlin:20141115T150000
DTEND;TZID=Europe/Berlin:20141115T170000
LOCATION:Willy-Brandt-Platz
GEO:51.452526;7.012961
URL;VALUE=URI:https://criticalmass.in/essen/2014-11-15
END:VEVENT
END:VCALENDAR
