BEGIN:VCALENDAR
VERSION:2.0
PRODID:-//Sabre//Sabre VObject 4.5.8//EN
CALSCALE:GREGORIAN
BEGIN:VEVENT
UID:criticalmass-one-essen-1392472800
DTSTAMP:20260425T012935Z
SUMMARY:Critical Mass Essen 15.02.2014
DTSTART;TZID=Europe/Berlin:20140215T150000
DTEND;TZID=Europe/Berlin:20140215T170000
LOCATION:Willy-Brandt-Platz
GEO:51.452526;7.012961
URL;VALUE=URI:https://criticalmass.in/essen/2014-02-15
END:VEVENT
END:VCALENDAR
