BEGIN:VCALENDAR
VERSION:2.0
PRODID:-//Sabre//Sabre VObject 4.5.8//EN
CALSCALE:GREGORIAN
BEGIN:VEVENT
UID:criticalmass-one-erlangen-1664110800
DTSTAMP:20260423T232232Z
SUMMARY:Kidical Mass Erlangen 25.09.2022
DTSTART;TZID=Europe/Berlin:20220925T150000
DTEND;TZID=Europe/Berlin:20220925T170000
LOCATION:Bohlenplatz
GEO:49.597182;11.012658
URL;VALUE=URI:https://criticalmass.in/erlangen/kidical-mass-erlangen-septem
 ber-2022
END:VEVENT
END:VCALENDAR
