BEGIN:VCALENDAR
VERSION:2.0
PRODID:-//Sabre//Sabre VObject 4.5.8//EN
CALSCALE:GREGORIAN
BEGIN:VEVENT
UID:criticalmass-one-erlangen-1632042000
DTSTAMP:20260423T125700Z
SUMMARY:Kidical Mass Erlangen 19.09.2021
DTSTART;TZID=Europe/Berlin:20210919T110000
DTEND;TZID=Europe/Berlin:20210919T130000
LOCATION:Bohlenplatz
GEO:49.597182;11.012658
URL;VALUE=URI:https://criticalmass.in/erlangen/kidical-mass-erlangen-septem
 ber-2021
END:VEVENT
END:VCALENDAR
