BEGIN:VCALENDAR
VERSION:2.0
PRODID:-//Sabre//Sabre VObject 4.5.8//EN
CALSCALE:GREGORIAN
BEGIN:VEVENT
UID:criticalmass-one-erlangen-1746878400
DTSTAMP:20260424T063135Z
SUMMARY:Kidical Mass Erlangen 10.05.2025
DTSTART;TZID=Europe/Berlin:20250510T140000
DTEND;TZID=Europe/Berlin:20250510T160000
LOCATION:Erlangen Neustädter Kirchenplatz
GEO:49.595804;11.005105
URL;VALUE=URI:https://criticalmass.in/erlangen/kidical-mass-erlangen-mai-20
 25
END:VEVENT
END:VCALENDAR
