BEGIN:VCALENDAR
VERSION:2.0
PRODID:-//Sabre//Sabre VObject 4.5.8//EN
CALSCALE:GREGORIAN
BEGIN:VEVENT
UID:criticalmass-one-erlangen-1770228000
DTSTAMP:20260424T030402Z
SUMMARY:Critical Mass Erlangen 04.02.2026
DTSTART;TZID=Europe/Berlin:20260204T190000
DTEND;TZID=Europe/Berlin:20260204T210000
LOCATION:Schlossplatz
GEO:49.597722;11.003773
URL;VALUE=URI:https://criticalmass.in/erlangen/2026-02-04
END:VEVENT
END:VCALENDAR
