BEGIN:VCALENDAR
VERSION:2.0
PRODID:-//Sabre//Sabre VObject 4.5.8//EN
CALSCALE:GREGORIAN
BEGIN:VEVENT
UID:criticalmass-one-erlangen-1717606800
DTSTAMP:20260423T181552Z
SUMMARY:Critical Mass Erlangen 05.06.2024
DTSTART;TZID=Europe/Berlin:20240605T190000
DTEND;TZID=Europe/Berlin:20240605T210000
LOCATION:Schlossplatz
GEO:49.597722;11.003773
URL;VALUE=URI:https://criticalmass.in/erlangen/2024-06-05
END:VEVENT
END:VCALENDAR
