BEGIN:VCALENDAR
VERSION:2.0
PRODID:-//Sabre//Sabre VObject 4.5.8//EN
CALSCALE:GREGORIAN
BEGIN:VEVENT
UID:criticalmass-one-erlangen-1690995600
DTSTAMP:20260424T092023Z
SUMMARY:Critical Mass Erlangen 02.08.2023
DTSTART;TZID=Europe/Berlin:20230802T190000
DTEND;TZID=Europe/Berlin:20230802T210000
LOCATION:Schlossplatz
GEO:49.597722;11.003773
URL;VALUE=URI:https://criticalmass.in/erlangen/2023-08-02
END:VEVENT
END:VCALENDAR
