BEGIN:VCALENDAR
VERSION:2.0
PRODID:-//Sabre//Sabre VObject 4.5.8//EN
CALSCALE:GREGORIAN
BEGIN:VEVENT
UID:criticalmass-one-erlangen-1659546000
DTSTAMP:20260424T104506Z
SUMMARY:Critical Mass Erlangen 03.08.2022
DTSTART;TZID=Europe/Berlin:20220803T190000
DTEND;TZID=Europe/Berlin:20220803T210000
LOCATION:Schlossplatz
GEO:49.597722;11.003773
URL;VALUE=URI:https://criticalmass.in/erlangen/2022-08-03
END:VEVENT
END:VCALENDAR
