BEGIN:VCALENDAR
VERSION:2.0
PRODID:-//Sabre//Sabre VObject 4.5.8//EN
CALSCALE:GREGORIAN
BEGIN:VEVENT
UID:criticalmass-one-erlangen-1651683600
DTSTAMP:20260423T214112Z
SUMMARY:Critical Mass Erlangen 04.05.2022
DTSTART;TZID=Europe/Berlin:20220504T190000
DTEND;TZID=Europe/Berlin:20220504T210000
LOCATION:Schlossplatz
GEO:49.597722;11.003773
URL;VALUE=URI:https://criticalmass.in/erlangen/2022-05-04
END:VEVENT
END:VCALENDAR
