BEGIN:VCALENDAR
VERSION:2.0
PRODID:-//Sabre//Sabre VObject 4.5.8//EN
CALSCALE:GREGORIAN
BEGIN:VEVENT
UID:criticalmass-one-erlangen-1643824800
DTSTAMP:20260423T213952Z
SUMMARY:Critical Mass Erlangen 02.02.2022
DTSTART;TZID=Europe/Berlin:20220202T190000
DTEND;TZID=Europe/Berlin:20220202T210000
LOCATION:Schlossplatz
GEO:49.597722;11.003773
URL;VALUE=URI:https://criticalmass.in/erlangen/2022-02-02
END:VEVENT
END:VCALENDAR
