BEGIN:VCALENDAR
VERSION:2.0
PRODID:-//Sabre//Sabre VObject 4.5.8//EN
CALSCALE:GREGORIAN
BEGIN:VEVENT
UID:criticalmass-one-erlangen-1628870400
DTSTAMP:20260423T045357Z
SUMMARY:Critical Mass Erlangen 13.08.2021
DTSTART;TZID=Europe/Berlin:20210813T180000
DTEND;TZID=Europe/Berlin:20210813T200000
GEO:49.590962;11.006854
URL;VALUE=URI:https://criticalmass.in/erlangen/2021-08-13
END:VEVENT
END:VCALENDAR
