BEGIN:VCALENDAR
VERSION:2.0
PRODID:-//Sabre//Sabre VObject 4.5.8//EN
CALSCALE:GREGORIAN
BEGIN:VEVENT
UID:criticalmass-one-erlangen-1628096400
DTSTAMP:20260424T065125Z
SUMMARY:Critical Mass Erlangen 04.08.2021
DTSTART;TZID=Europe/Berlin:20210804T190000
DTEND;TZID=Europe/Berlin:20210804T210000
LOCATION:Schlossplatz
GEO:49.597722;11.003773
URL;VALUE=URI:https://criticalmass.in/erlangen/2021-08-04
END:VEVENT
END:VCALENDAR
