BEGIN:VCALENDAR
VERSION:2.0
PRODID:-//Sabre//Sabre VObject 4.5.8//EN
CALSCALE:GREGORIAN
BEGIN:VEVENT
UID:criticalmass-one-erlangen-1625846400
DTSTAMP:20260423T171523Z
SUMMARY:Critical Mass Erlangen 09.07.2021
DTSTART;TZID=Europe/Berlin:20210709T180000
DTEND;TZID=Europe/Berlin:20210709T200000
GEO:49.590962;11.006854
URL;VALUE=URI:https://criticalmass.in/erlangen/2021-07-09
END:VEVENT
END:VCALENDAR
