BEGIN:VCALENDAR
VERSION:2.0
PRODID:-//Sabre//Sabre VObject 4.5.8//EN
CALSCALE:GREGORIAN
BEGIN:VEVENT
UID:criticalmass-one-erlangen-1615568400
DTSTAMP:20260423T234342Z
SUMMARY:Critical Mass Erlangen 12.03.2021
DTSTART;TZID=Europe/Berlin:20210312T180000
DTEND;TZID=Europe/Berlin:20210312T200000
GEO:49.590962;11.006854
URL;VALUE=URI:https://criticalmass.in/erlangen/2021-03-12
END:VEVENT
END:VCALENDAR
