BEGIN:VCALENDAR
VERSION:2.0
PRODID:-//Sabre//Sabre VObject 4.5.8//EN
CALSCALE:GREGORIAN
BEGIN:VEVENT
UID:criticalmass-one-erlangen-1605286800
DTSTAMP:20260425T181059Z
SUMMARY:Critical Mass Erlangen 13.11.2020
DTSTART;TZID=Europe/Berlin:20201113T180000
DTEND;TZID=Europe/Berlin:20201113T200000
GEO:49.590962;11.006854
URL;VALUE=URI:https://criticalmass.in/erlangen/2020-11-13
END:VEVENT
END:VCALENDAR
