BEGIN:VCALENDAR
VERSION:2.0
PRODID:-//Sabre//Sabre VObject 4.5.8//EN
CALSCALE:GREGORIAN
BEGIN:VEVENT
UID:criticalmass-one-erlangen-1599840000
DTSTAMP:20260423T134908Z
SUMMARY:Critical Mass Erlangen 11.09.2020
DTSTART;TZID=Europe/Berlin:20200911T180000
DTEND;TZID=Europe/Berlin:20200911T200000
GEO:49.590962;11.006854
URL;VALUE=URI:https://criticalmass.in/erlangen/2020-09-11
END:VEVENT
END:VCALENDAR
