BEGIN:VCALENDAR
VERSION:2.0
PRODID:-//Sabre//Sabre VObject 4.5.8//EN
CALSCALE:GREGORIAN
BEGIN:VEVENT
UID:criticalmass-one-erlangen-1594396800
DTSTAMP:20260423T192308Z
SUMMARY:Critical Mass Erlangen 10.07.2020
DTSTART;TZID=Europe/Berlin:20200710T180000
DTEND;TZID=Europe/Berlin:20200710T200000
GEO:49.590962;11.006854
URL;VALUE=URI:https://criticalmass.in/erlangen/2020-07-10
END:VEVENT
END:VCALENDAR
