BEGIN:VCALENDAR
VERSION:2.0
PRODID:-//Sabre//Sabre VObject 4.5.8//EN
CALSCALE:GREGORIAN
BEGIN:VEVENT
UID:criticalmass-one-erlangen-1581699600
DTSTAMP:20260424T004653Z
SUMMARY:Critical Mass Erlangen 14.02.2020
DTSTART;TZID=Europe/Berlin:20200214T180000
DTEND;TZID=Europe/Berlin:20200214T200000
GEO:49.590962;11.006854
URL;VALUE=URI:https://criticalmass.in/erlangen/2020-02-14
END:VEVENT
END:VCALENDAR
