BEGIN:VCALENDAR
VERSION:2.0
PRODID:-//Sabre//Sabre VObject 4.5.8//EN
CALSCALE:GREGORIAN
BEGIN:VEVENT
UID:criticalmass-one-erlangen-1578675600
DTSTAMP:20260423T063608Z
SUMMARY:Critical Mass Erlangen 10.01.2020
DTSTART;TZID=Europe/Berlin:20200110T180000
DTEND;TZID=Europe/Berlin:20200110T200000
GEO:49.590962;11.006854
URL;VALUE=URI:https://criticalmass.in/erlangen/2020-01-10
END:VEVENT
END:VCALENDAR
