BEGIN:VCALENDAR
VERSION:2.0
PRODID:-//Sabre//Sabre VObject 4.5.8//EN
CALSCALE:GREGORIAN
BEGIN:VEVENT
UID:criticalmass-one-erlangen-1576256400
DTSTAMP:20260424T091325Z
SUMMARY:Critical Mass Erlangen 13.12.2019
DTSTART;TZID=Europe/Berlin:20191213T180000
DTEND;TZID=Europe/Berlin:20191213T200000
GEO:49.590962;11.006854
URL;VALUE=URI:https://criticalmass.in/erlangen/2019-12-13
END:VEVENT
END:VCALENDAR
