BEGIN:VCALENDAR
VERSION:2.0
PRODID:-//Sabre//Sabre VObject 4.5.8//EN
CALSCALE:GREGORIAN
BEGIN:VEVENT
UID:criticalmass-one-erlangen-1570809600
DTSTAMP:20260425T151906Z
SUMMARY:Critical Mass Erlangen 11.10.2019
DTSTART;TZID=Europe/Berlin:20191011T180000
DTEND;TZID=Europe/Berlin:20191011T200000
GEO:49.590962;11.006854
URL;VALUE=URI:https://criticalmass.in/erlangen/2019-10-11
END:VEVENT
END:VCALENDAR
