BEGIN:VCALENDAR
VERSION:2.0
PRODID:-//Sabre//Sabre VObject 4.5.8//EN
CALSCALE:GREGORIAN
BEGIN:VEVENT
UID:criticalmass-one-erlangen-1565366400
DTSTAMP:20260425T194834Z
SUMMARY:Critical Mass Erlangen 09.08.2019
DTSTART;TZID=Europe/Berlin:20190809T180000
DTEND;TZID=Europe/Berlin:20190809T200000
GEO:49.590962;11.006854
URL;VALUE=URI:https://criticalmass.in/erlangen/2019-08-09
END:VEVENT
END:VCALENDAR
