BEGIN:VCALENDAR
VERSION:2.0
PRODID:-//Sabre//Sabre VObject 4.5.8//EN
CALSCALE:GREGORIAN
BEGIN:VEVENT
UID:criticalmass-one-erlangen-1555084800
DTSTAMP:20260424T023309Z
SUMMARY:Critical Mass Erlangen 12.04.2019
DTSTART;TZID=Europe/Berlin:20190412T180000
DTEND;TZID=Europe/Berlin:20190412T200000
GEO:49.590962;11.006854
URL;VALUE=URI:https://criticalmass.in/erlangen/2019-04-12
END:VEVENT
END:VCALENDAR
