BEGIN:VCALENDAR
VERSION:2.0
PRODID:-//Sabre//Sabre VObject 4.5.8//EN
CALSCALE:GREGORIAN
BEGIN:VEVENT
UID:criticalmass-one-erlangen-1549645200
DTSTAMP:20260423T131824Z
SUMMARY:Critical Mass Erlangen 08.02.2019
DTSTART;TZID=Europe/Berlin:20190208T180000
DTEND;TZID=Europe/Berlin:20190208T200000
GEO:49.590962;11.006854
URL;VALUE=URI:https://criticalmass.in/erlangen/2019-02-08
END:VEVENT
END:VCALENDAR
